BEGIN:VCALENDAR
VERSION:2.0
PRODID:-// - ECPv6.15.20//NONSGML v1.0//EN
CALSCALE:GREGORIAN
METHOD:PUBLISH
X-ORIGINAL-URL:https://sewingcafelancaster.com
X-WR-CALDESC:Events for 
REFRESH-INTERVAL;VALUE=DURATION:PT1H
X-Robots-Tag:noindex
X-PUBLISHED-TTL:PT1H
BEGIN:VTIMEZONE
TZID:UTC
BEGIN:STANDARD
TZOFFSETFROM:+0000
TZOFFSETTO:+0000
TZNAME:UTC
DTSTART:20190101T000000
END:STANDARD
END:VTIMEZONE
BEGIN:VEVENT
DTSTART;TZID=UTC:20200511T200000
DTEND;TZID=UTC:20200511T230000
DTSTAMP:20260425T121449
CREATED:20200504T213034Z
LAST-MODIFIED:20200504T214417Z
UID:311-1589227200-1589238000@sewingcafelancaster.com
SUMMARY:Beer & Yarn
DESCRIPTION:Join us the second Monday of every month to work on projects over a pint. Bring a hand-sewing\, knitting\, crocheting\, mending\, or embroidery. We’ll be meeting on zoom until our favourite local pub is open again. 
URL:https://sewingcafelancaster.com/event/beer-yarn/
LOCATION:Online
CATEGORIES:Sew Socials
ORGANIZER;CN="Sewing Cafe Lancaster":MAILTO:sewingcafelancaster@gmail.com
END:VEVENT
END:VCALENDAR