BEGIN:VCALENDAR
VERSION:2.0
PRODID:-// - ECPv6.15.20//NONSGML v1.0//EN
CALSCALE:GREGORIAN
METHOD:PUBLISH
X-ORIGINAL-URL:https://sewingcafelancaster.com
X-WR-CALDESC:Events for 
REFRESH-INTERVAL;VALUE=DURATION:PT1H
X-Robots-Tag:noindex
X-PUBLISHED-TTL:PT1H
BEGIN:VTIMEZONE
TZID:UTC
BEGIN:STANDARD
TZOFFSETFROM:+0000
TZOFFSETTO:+0000
TZNAME:UTC
DTSTART:20190101T000000
END:STANDARD
END:VTIMEZONE
BEGIN:VEVENT
DTSTART;TZID=UTC:20210731T130000
DTEND;TZID=UTC:20210731T170000
DTSTAMP:20260425T113101
CREATED:20210726T150021Z
LAST-MODIFIED:20210726T150021Z
UID:1549-1627736400-1627750800@sewingcafelancaster.com
SUMMARY:Dyeing With Kitchen Waste
DESCRIPTION:Come and have a taste of the variety of vibrant colours using non toxic plant based processes. \nBookings at: \n1pm to 2:30 pm https://www.eventbrite.co.uk/e/dyeing-fabric-with-kitchen-waste-lancaster-health-festival-tickets-163827166465 \n3pm to 4:30 pm https://www.eventbrite.co.uk/e/dyeing-fabric-with-kitchen-waste-lancaster-health-festival-tickets-163827296855 \nCome and have a taste of the variety of vibrant colours using non toxic plant based processes. Learn the basics on how to extract and use pigment from vegetable waste on natural fibres. Suited for beginners\, limited spaces available\, materials included. \nChemical dyes are extremely toxic and cause huge amounts of pollution at every stage of their production and use. \nIngredients in chemical dyes are responsible for huge amounts of pollution of soil and water\, this goes beyond those involved in the industry and affects people living in the whole region. \nLittle textile production occurs in the UK or across Europe\, so we become \nincreasingly divorced from the process and problems inflicted and awareness \ndeclines. \nConnect more closely with nature\, join us for a small scale DIY alternative to fast fashion\, and have fun in the process. \nYou will learn more about food waste and textiles while having fun in the process
URL:https://sewingcafelancaster.com/event/dyeing-with-kitchen-waste/
LOCATION:Lancashire
ORGANIZER;CN="Sewing Cafe Lancaster":MAILTO:sewingcafelancaster@gmail.com
END:VEVENT
BEGIN:VEVENT
DTSTART;TZID=UTC:20210713T180000
DTEND;TZID=UTC:20210713T210000
DTSTAMP:20260425T113101
CREATED:20210609T091627Z
LAST-MODIFIED:20210609T093848Z
UID:1510-1626199200-1626210000@sewingcafelancaster.com
SUMMARY:Beer&Yarn
DESCRIPTION:We are back to the Pub!\n\nBring a project and connect with the sewing\, crafting\, mending community.\nWould love to see your faces and hear about what you are working on.
URL:https://sewingcafelancaster.com/event/beeryarn-2/
LOCATION:Stonewell Tap\, 8-10 Church Street\, Lancaster\, Lancashire\, LA1 1NP\, United Kingdom
ORGANIZER;CN="Sewing Cafe Lancaster":MAILTO:sewingcafelancaster@gmail.com
END:VEVENT
BEGIN:VEVENT
DTSTART;TZID=UTC:20210713T093000
DTEND;TZID=UTC:20210713T103000
DTSTAMP:20260425T113101
CREATED:20210628T093137Z
LAST-MODIFIED:20210628T162410Z
UID:1539-1626168600-1626172200@sewingcafelancaster.com
SUMMARY:Storytelling Café: The Lancaster Lindows
DESCRIPTION:Because the past has loads to teach us about the quest for profit\, growth and consumption \nBy Jasmine Patel\, Emma Chandler and Emily Yates\, Lancaster Girls Grammar school students and researchers. \nSewing Café Lancaster is making a banner about Lancaster and the slave trade. To get inspired the researchers are talking (online) about the stories they have found. Everyone is welcome\, get the zoom link at\nsewingcafelancaster@gmail.com or at www.sewingcafelancaster.com
URL:https://sewingcafelancaster.com/event/storytelling-cafe-the-lancaster-lindows/
LOCATION:Online
END:VEVENT
BEGIN:VEVENT
DTSTART;TZID=UTC:20210707T134500
DTEND;TZID=UTC:20210707T151500
DTSTAMP:20260425T113101
CREATED:20210628T160307Z
LAST-MODIFIED:20210628T160307Z
UID:1542-1625665500-1625670900@sewingcafelancaster.com
SUMMARY:Convivial Clothing: let's explore the power of positive change
DESCRIPTION:Sewing Café Lancaster and Stitched Up Co-operative collaborate to reimagine the textile Industry while doing some mending! \n7th Degrowth / 16th ISEE International Society for Ecological Economics Conference: “Building Alternative Livelihoods in times of ecological and political crisis”\nRegistration: https://www.eventsforce.net/hg3/197/register
URL:https://sewingcafelancaster.com/event/convivial-clothing-lets-explore-the-power-of-positive-change/
LOCATION:Lancashire
END:VEVENT
BEGIN:VEVENT
DTSTART;TZID=UTC:20210615T093000
DTEND;TZID=UTC:20210615T223000
DTSTAMP:20260425T113101
CREATED:20210609T090916Z
LAST-MODIFIED:20210609T100801Z
UID:1503-1623749400-1623796200@sewingcafelancaster.com
SUMMARY:Storytelling Café: Dent Runaway  Story and Sattherwaite Family
DESCRIPTION:Because the past has loads to teach us about the quest for profit\, growth and consumption \nSewing Café Lancaster is making a banner about Lancaster and the slave trade. To get inspired the researchers are talking (online) about the stories they have found. Everyone is welcome\, get the zoom link at\nsewingcafelancaster@gmail.com or at www.sewingcafelancaster.com \n 
URL:https://sewingcafelancaster.com/event/storytelling-cafe-dent-runaway-story-and-sattherwaite-family/
LOCATION:Lancashire
ORGANIZER;CN="Sewing Cafe Lancaster":MAILTO:sewingcafelancaster@gmail.com
END:VEVENT
BEGIN:VEVENT
DTSTART;TZID=UTC:20210605T100000
DTEND;TZID=UTC:20210605T160000
DTSTAMP:20260425T113101
CREATED:20210423T120957Z
LAST-MODIFIED:20210427T215433Z
UID:1477-1622887200-1622908800@sewingcafelancaster.com
SUMMARY:Natural Dyes & Printing: The Basics
DESCRIPTION:Learn how to make a dye from dried or fresh ingredients\, experiment eco-printing and more \nby Katrina Barnish and Sewing Cafe Lancaster’s team. \nWhere? At The Rewilding\, Patty’s Barn LA2 0DY https://www.the-rewilding.com/ \nHow much? Early bird £60 until the 22nd of May Full £65 \nHow to book? sewingcafelancaster@gmail.com \nLimited numbers in a Covid safe environment
URL:https://sewingcafelancaster.com/event/natural-dyes-printing-the-basics/
LOCATION:Lancashire
END:VEVENT
BEGIN:VEVENT
DTSTART;TZID=UTC:20210525T093000
DTEND;TZID=UTC:20210525T223000
DTSTAMP:20260425T113101
CREATED:20210426T134745Z
LAST-MODIFIED:20210426T135752Z
UID:1494-1621935000-1621981800@sewingcafelancaster.com
SUMMARY:Ibo Boy and Dent Runaway Stories
DESCRIPTION:Ibo Boy Story by Drahoslava Machova and Dent Runaway Story Professor Imogen Tyler\, an online Storytelling Café.\nSewing Café Lancaster is making a banner about Lancaster and the slave trade. To get inspired the researchers are talking (online) about the stories they have found. \nEveryone is welcome\, because the past has loads to teach us about the quest for profit\, growth and consumption. \nBook your place here  or get the zoom link at sewingcafelancaster@gmail.com. \n 
URL:https://sewingcafelancaster.com/event/ibo-boy-and-dent-runaway-stories/
LOCATION:Lancashire
ORGANIZER;CN="Sewing Cafe Lancaster":MAILTO:sewingcafelancaster@gmail.com
END:VEVENT
BEGIN:VEVENT
DTSTART;TZID=UTC:20210518T093000
DTEND;TZID=UTC:20210518T223000
DTSTAMP:20260425T113101
CREATED:20210426T093636Z
LAST-MODIFIED:20210426T134919Z
UID:1485-1621330200-1621377000@sewingcafelancaster.com
SUMMARY:Storytelling Café: Jack Gladstone and the Demerara Slave Rebellion (1823)
DESCRIPTION:By Professor Imogen Tyler \nOnline Storytelling Café. Sewing Café Lancaster is making a banner about Lancaster and the slave trade. To get inspired the researchers are talking (online) about the stories they have found. \nEveryone is welcome\, because the past has loads to teach us about the quest for profit\, growth and consumption.  \nBook your place here or get the zoom link at sewingcafelancaster@gmail.com \n 
URL:https://sewingcafelancaster.com/event/storytelling-cafe-jack-gladstone-and-the-demerara-slave-rebellion-1823/
LOCATION:Online
ORGANIZER;CN="Sewing Cafe Lancaster":MAILTO:sewingcafelancaster@gmail.com
END:VEVENT
BEGIN:VEVENT
DTSTART;TZID=UTC:20210511T093000
DTEND;TZID=UTC:20210511T223000
DTSTAMP:20260425T113101
CREATED:20210426T093433Z
LAST-MODIFIED:20210426T111458Z
UID:1480-1620725400-1620772200@sewingcafelancaster.com
SUMMARY:Storytelling Cafe: Frances Elizabeth Johnson
DESCRIPTION:By Professor Alan Rice \nOnline Storytelling Café. Sewing Café Lancaster is making a banner about Lancaster and the slave trade. To get inspired the researchers are talking (online) about the stories they have found. \nEveryone is welcome\, because the past has loads to teach us about the quest for profit\, growth and consumption. \nTo book click here or get the zoom link at sewingcafelancaster@gmail.com \n 
URL:https://sewingcafelancaster.com/event/storytelling-cafe-frances-elizabeth-johnson/
LOCATION:Online
ORGANIZER;CN="Sewing Cafe Lancaster":MAILTO:sewingcafelancaster@gmail.com
END:VEVENT
BEGIN:VEVENT
DTSTART;TZID=UTC:20210424T120000
DTEND;TZID=UTC:20210424T133000
DTSTAMP:20260425T113101
CREATED:20210420T093239Z
LAST-MODIFIED:20210420T093239Z
UID:1469-1619265600-1619271000@sewingcafelancaster.com
SUMMARY:Give Away: Mending kits
DESCRIPTION:Come along\, meet the team\, have a chat and get one of the mending kits our team have made for you.
URL:https://sewingcafelancaster.com/event/give-away-mending-kits/
LOCATION:Lancashire
ORGANIZER;CN="Sewing Cafe Lancaster":MAILTO:sewingcafelancaster@gmail.com
END:VEVENT
BEGIN:VEVENT
DTSTART;TZID=UTC:20210422T180000
DTEND;TZID=UTC:20210422T190000
DTSTAMP:20260425T113101
CREATED:20210420T092947Z
LAST-MODIFIED:20210420T092947Z
UID:1466-1619114400-1619118000@sewingcafelancaster.com
SUMMARY:Conversation
DESCRIPTION:Imprint mag and the Sewing Cafe Lancaster: on sewing\, sharing skills and building communities
URL:https://sewingcafelancaster.com/event/conversation/
LOCATION:Lancashire
END:VEVENT
BEGIN:VEVENT
DTSTART;TZID=UTC:20210420T080000
DTEND;TZID=UTC:20210420T170000
DTSTAMP:20260425T113101
CREATED:20210420T093348Z
LAST-MODIFIED:20210420T093348Z
UID:1471-1618905600-1618938000@sewingcafelancaster.com
SUMMARY:Mending session: skill share
DESCRIPTION:Bring along your socks to darn\, that lovely dress that need attention or learn how to sew the button back on your jeans. You will learn skills for life and reduce your carbon footprint by reusing and repairing  in a Covid safe environment.\nNo sewing experience is necessary\, Sewing Cafe Lancaster will take you through the steps. Spread the word. 90 minutes slots\, booking required at sewingcafelancaster@gmail.com
URL:https://sewingcafelancaster.com/event/mending-session-skill-share/
LOCATION:Lancashire
ORGANIZER;CN="Sewing Cafe Lancaster":MAILTO:sewingcafelancaster@gmail.com
END:VEVENT
BEGIN:VEVENT
DTSTART;TZID=UTC:20210308T200000
DTEND;TZID=UTC:20210308T230000
DTSTAMP:20260425T113101
CREATED:20210302T124042Z
LAST-MODIFIED:20210302T124138Z
UID:1023-1615233600-1615244400@sewingcafelancaster.com
SUMMARY:Beer&Yarn
DESCRIPTION:Join us the second Monday of every month to work on projects over a pint. Bring a hand-sewing\, knitting\, crocheting\, mending\, or embroidery. We’ll be meeting on zoom until our favourite local pub is open again. \nLooking forward to seeing you!
URL:https://sewingcafelancaster.com/event/beeryarn/
LOCATION:Online
ORGANIZER;CN="Sewing Cafe Lancaster":MAILTO:sewingcafelancaster@gmail.com
END:VEVENT
BEGIN:VEVENT
DTSTART;TZID=UTC:20200511T200000
DTEND;TZID=UTC:20200511T230000
DTSTAMP:20260425T113101
CREATED:20200504T213034Z
LAST-MODIFIED:20200504T214417Z
UID:311-1589227200-1589238000@sewingcafelancaster.com
SUMMARY:Beer & Yarn
DESCRIPTION:Join us the second Monday of every month to work on projects over a pint. Bring a hand-sewing\, knitting\, crocheting\, mending\, or embroidery. We’ll be meeting on zoom until our favourite local pub is open again. 
URL:https://sewingcafelancaster.com/event/beer-yarn/
LOCATION:Online
CATEGORIES:Sew Socials
ORGANIZER;CN="Sewing Cafe Lancaster":MAILTO:sewingcafelancaster@gmail.com
END:VEVENT
END:VCALENDAR