BEGIN:VCALENDAR
VERSION:2.0
PRODID:-// - ECPv6.15.20//NONSGML v1.0//EN
CALSCALE:GREGORIAN
METHOD:PUBLISH
X-ORIGINAL-URL:https://sewingcafelancaster.com
X-WR-CALDESC:Events for 
REFRESH-INTERVAL;VALUE=DURATION:PT1H
X-Robots-Tag:noindex
X-PUBLISHED-TTL:PT1H
BEGIN:VTIMEZONE
TZID:UTC
BEGIN:STANDARD
TZOFFSETFROM:+0000
TZOFFSETTO:+0000
TZNAME:UTC
DTSTART:20250101T000000
END:STANDARD
END:VTIMEZONE
BEGIN:VEVENT
DTSTART;TZID=UTC:20260305T110000
DTEND;TZID=UTC:20260305T150000
DTSTAMP:20260425T025059
CREATED:20260212T154937Z
LAST-MODIFIED:20260212T161241Z
UID:3511-1772708400-1772722800@sewingcafelancaster.com
SUMMARY:Hand Stitched Historic Pockets
DESCRIPTION:A work day in the original top floor sewing room at Judges Lodgings. \nWe will provide all materials\, equipment and instruction to enable you to begin making your own tie-on pockets by hand. \nRefreshments provided – please bring a packed lunch if you wish. \nPlease book a FREE ticket so we know to expect you!
URL:https://sewingcafelancaster.com/event/hand-stitched-historic-pockets/
LOCATION:Judges Lodgings\, Church Street\, Lancaster\, LA1 1YS
CATEGORIES:Workshop
ATTACH;FMTTYPE=image/png:https://sewingcafelancaster.com/wp-content/uploads/2026/02/hand-Stitched-Pockets-Workshop-2160-x-1080-px.png
ORGANIZER;CN="Sewing Cafe Lancaster":MAILTO:sewingcafelancaster@gmail.com
END:VEVENT
END:VCALENDAR