BEGIN:VCALENDAR
VERSION:2.0
PRODID:-// - ECPv6.15.20//NONSGML v1.0//EN
CALSCALE:GREGORIAN
METHOD:PUBLISH
X-ORIGINAL-URL:https://sewingcafelancaster.com
X-WR-CALDESC:Events for 
REFRESH-INTERVAL;VALUE=DURATION:PT1H
X-Robots-Tag:noindex
X-PUBLISHED-TTL:PT1H
BEGIN:VTIMEZONE
TZID:UTC
BEGIN:STANDARD
TZOFFSETFROM:+0000
TZOFFSETTO:+0000
TZNAME:UTC
DTSTART:20250101T000000
END:STANDARD
END:VTIMEZONE
BEGIN:VEVENT
DTSTART;TZID=UTC:20260423T180000
DTEND;TZID=UTC:20260423T204500
DTSTAMP:20260423T125113
CREATED:20260407T123545Z
LAST-MODIFIED:20260407T125803Z
UID:3831-1776967200-1776977100@sewingcafelancaster.com
SUMMARY:Pockets of Possibilities - Opening Party
DESCRIPTION:Come and join us for our opening event for Pockets of Possibilities\, a 3-day event hosted by Sewing Cafe Lancaster coinciding with Fashion Revolution week 2026. \n\n\n\n \n\n\n\nThis year we are pulling together our Pockets of Possibilities\, sharing the different threads of Sewing Café Lancaster with our wider community. We will learn more about our past\, gain new skills and inspiration\, consider a better future and how we can tread more lightly. \n\n\n\n \n\n\n\nLet’s nurture healthy relationships with our clothes and the environment which provides them. Build a sustainable wardrobe that works for you. \n\n\n\n \n\n\n\n*Fashion Revolution was founded by Carrie Somers and Orsola de Castro in the wake of the Rana Plaza (Bangladesh)\, disaster in 2013.
URL:https://sewingcafelancaster.com/event/pockets-of-possibilities-opening-party/
LOCATION:The Storey Gallery\, Meeting House Lane\, Lancaster\, Lancashire\, LA1 1TH\, United Kingdom
CATEGORIES:Fashion Revolution Week
ATTACH;FMTTYPE=image/jpeg:https://sewingcafelancaster.com/wp-content/uploads/2026/04/Thursday-Evening-WhatsApp.jpg
ORGANIZER;CN="Sewing Cafe Lancaster":MAILTO:sewingcafelancaster@gmail.com
END:VEVENT
BEGIN:VEVENT
DTSTART;TZID=UTC:20260423T191500
DTEND;TZID=UTC:20260423T201500
DTSTAMP:20260423T125113
CREATED:20260407T124609Z
LAST-MODIFIED:20260407T155206Z
UID:3836-1776971700-1776975300@sewingcafelancaster.com
SUMMARY:Clothing - What is Adequate?
DESCRIPTION:Talk by Megan Eames \n\n\n\n\n\nTime to roll up our sleeves? Navigating a sustainable wardrobe in a time of crisis. \n\n\n\nMegan is a PhD Researcher at the University of Manchester. Her research explores how inclusivity\, accessibility and justice are fundamental to a sustainable fashion future. \n\n\n\n \n\n\n\nMegan holds an MA in Fashion Cultures and Histories from London College of Fashion\, and a BA (Hons) in International Fashion Promotion from Manchester Metropolitan University. She has several years of experience of working in the fashion industry in London and Amsterdam\, which continues to inform her research. \n\n\n\n \n\n\n\nThis talk is part of the opening night of Pockets of Possibilities. If you’ve already booked a ticket you are covered. If not\, please find one at the link below
URL:https://sewingcafelancaster.com/event/clothing-what-is-adequate/
LOCATION:The Music Room at The Storey\, 27 Meeting House Lane\, Lancaster\, Lancashire\, LA11TH\, United Kingdom
CATEGORIES:Fashion Revolution Week
ATTACH;FMTTYPE=image/jpeg:https://sewingcafelancaster.com/wp-content/uploads/2026/04/Megan-Eames-shortened-talk-WhatsApp.jpg
ORGANIZER;CN="Sewing Cafe Lancaster":MAILTO:sewingcafelancaster@gmail.com
END:VEVENT
BEGIN:VEVENT
DTSTART;TZID=UTC:20260424T170000
DTEND;TZID=UTC:20260424T180000
DTSTAMP:20260423T125113
CREATED:20260407T154359Z
LAST-MODIFIED:20260407T155131Z
UID:3846-1777050000-1777053600@sewingcafelancaster.com
SUMMARY:The Lancashire Cotton Industry
DESCRIPTION:Talk by Jenny Harper and Janet Swan. Book Free tickets below.
URL:https://sewingcafelancaster.com/event/the-lancashire-cotton-industry/
LOCATION:The Music Room at The Storey\, 27 Meeting House Lane\, Lancaster\, Lancashire\, LA11TH\, United Kingdom
CATEGORIES:Fashion Revolution Week
ATTACH;FMTTYPE=image/jpeg:https://sewingcafelancaster.com/wp-content/uploads/2026/04/Jenny-Harper-and-Janet-Swan-A4.jpg
ORGANIZER;CN="Sewing Cafe Lancaster":MAILTO:sewingcafelancaster@gmail.com
END:VEVENT
BEGIN:VEVENT
DTSTART;TZID=UTC:20260424T180000
DTEND;TZID=UTC:20260424T190000
DTSTAMP:20260423T125113
CREATED:20260407T154756Z
LAST-MODIFIED:20260407T155116Z
UID:3850-1777053600-1777057200@sewingcafelancaster.com
SUMMARY:Pockets! Power\, Politics\, Protest\, and Patents
DESCRIPTION:Kat Jungnickel dives into the history of pockets to get inspired by the many ways people have continually (re)invented everyday wearables in extraordinary ways. Booking required\, link to free tickets below.
URL:https://sewingcafelancaster.com/event/pockets-power-politics-protest-and-patents/
LOCATION:The Music Room at The Storey\, 27 Meeting House Lane\, Lancaster\, Lancashire\, LA11TH\, United Kingdom
CATEGORIES:Fashion Revolution Week
ATTACH;FMTTYPE=image/jpeg:https://sewingcafelancaster.com/wp-content/uploads/2026/04/Kat-Jungnickel-A4.jpg
ORGANIZER;CN="Sewing Cafe Lancaster":MAILTO:sewingcafelancaster@gmail.com
END:VEVENT
BEGIN:VEVENT
DTSTART;TZID=UTC:20260424T191500
DTEND;TZID=UTC:20260424T201500
DTSTAMP:20260423T125113
CREATED:20260407T155049Z
LAST-MODIFIED:20260407T155155Z
UID:3853-1777058100-1777061700@sewingcafelancaster.com
SUMMARY:Watts to Wear
DESCRIPTION:Reinventing our wardrobes to reduce carbon emissions (in buildings) a talk by Janine Morley. Booking required\, link to free tickets below
URL:https://sewingcafelancaster.com/event/watts-to-wear/
LOCATION:The Music Room at The Storey\, 27 Meeting House Lane\, Lancaster\, Lancashire\, LA11TH\, United Kingdom
CATEGORIES:Fashion Revolution Week
ATTACH;FMTTYPE=image/jpeg:https://sewingcafelancaster.com/wp-content/uploads/2026/04/Janine-Morley-talk-WhatsApp.jpg
ORGANIZER;CN="Sewing Cafe Lancaster":MAILTO:sewingcafelancaster@gmail.com
END:VEVENT
END:VCALENDAR