BEGIN:VCALENDAR
VERSION:2.0
PRODID:-// - ECPv6.15.20//NONSGML v1.0//EN
CALSCALE:GREGORIAN
METHOD:PUBLISH
X-ORIGINAL-URL:https://sewingcafelancaster.com
X-WR-CALDESC:Events for 
REFRESH-INTERVAL;VALUE=DURATION:PT1H
X-Robots-Tag:noindex
X-PUBLISHED-TTL:PT1H
BEGIN:VTIMEZONE
TZID:UTC
BEGIN:STANDARD
TZOFFSETFROM:+0000
TZOFFSETTO:+0000
TZNAME:UTC
DTSTART:20250101T000000
END:STANDARD
END:VTIMEZONE
BEGIN:VEVENT
DTSTART;TZID=UTC:20260328T120000
DTEND;TZID=UTC:20260328T160000
DTSTAMP:20260424T220703
CREATED:20260219T205823Z
LAST-MODIFIED:20260405T141156Z
UID:3748-1774699200-1774713600@sewingcafelancaster.com
SUMMARY:Upcycling & Embellishments
DESCRIPTION:A workshop for those intending or interested in making/adapting garments and outfits (modelled by yourself or someone else) for our 2nd Annual Alternative Runway to be staged on April 25th in Storey Gallery.
URL:https://sewingcafelancaster.com/event/upcycling-embellishments/
LOCATION:Global Link\, 29 Queen Street\, Lancaster\, LA1 1RX\, United Kingdom
CATEGORIES:Workshop
END:VEVENT
END:VCALENDAR