BEGIN:VCALENDAR
VERSION:2.0
PRODID:-// - ECPv6.15.20//NONSGML v1.0//EN
CALSCALE:GREGORIAN
METHOD:PUBLISH
X-ORIGINAL-URL:https://sewingcafelancaster.com
X-WR-CALDESC:Events for 
REFRESH-INTERVAL;VALUE=DURATION:PT1H
X-Robots-Tag:noindex
X-PUBLISHED-TTL:PT1H
BEGIN:VTIMEZONE
TZID:UTC
BEGIN:STANDARD
TZOFFSETFROM:+0000
TZOFFSETTO:+0000
TZNAME:UTC
DTSTART:20250101T000000
END:STANDARD
END:VTIMEZONE
BEGIN:VEVENT
DTSTART;TZID=UTC:20260311T160000
DTEND;TZID=UTC:20260311T180000
DTSTAMP:20260424T221437
CREATED:20260219T205339Z
LAST-MODIFIED:20260405T141145Z
UID:3740-1773244800-1773252000@sewingcafelancaster.com
SUMMARY:Marsh Mending
DESCRIPTION:Drop in mending. No experience required. Bring what you need to mend\, volunteers will offer expertise\, materials and tools.
URL:https://sewingcafelancaster.com/event/marsh-mending/
LOCATION:Marsh Community Centre\, Willow Lane\, Lancaster\, LA1 5PP\, United Kingdom
CATEGORIES:Sew Socials
END:VEVENT
END:VCALENDAR