BEGIN:VCALENDAR
VERSION:2.0
PRODID:-// - ECPv6.15.20//NONSGML v1.0//EN
CALSCALE:GREGORIAN
METHOD:PUBLISH
X-ORIGINAL-URL:https://sewingcafelancaster.com
X-WR-CALDESC:Events for 
REFRESH-INTERVAL;VALUE=DURATION:PT1H
X-Robots-Tag:noindex
X-PUBLISHED-TTL:PT1H
BEGIN:VTIMEZONE
TZID:UTC
BEGIN:STANDARD
TZOFFSETFROM:+0000
TZOFFSETTO:+0000
TZNAME:UTC
DTSTART:20250101T000000
END:STANDARD
END:VTIMEZONE
BEGIN:VEVENT
DTSTART;TZID=UTC:20260306T110000
DTEND;TZID=UTC:20260306T150000
DTSTAMP:20260424T220703
CREATED:20260219T202027Z
LAST-MODIFIED:20260405T141202Z
UID:3728-1772794800-1772809200@sewingcafelancaster.com
SUMMARY:Memorial Blanket Stitching
DESCRIPTION:A session planned by Fariha to stitch and crochet squares together\, made across the community. \n\n\n\nStolen lives\, Stolen Futures. Gaza’s children remembered.  \n\n\n\nEach square represents 10 children murdered by Israel.
URL:https://sewingcafelancaster.com/event/memorial-blanket-stitching/
LOCATION:Friends Meeting House\, Meeting House Lane\, Lancaster\, LA1 1TX\, United Kingdom
CATEGORIES:Workshop
ATTACH;FMTTYPE=image/jpeg:https://sewingcafelancaster.com/wp-content/uploads/2026/02/memorial-Quilt-Stitching.jpg
END:VEVENT
END:VCALENDAR