BEGIN:VCALENDAR
VERSION:2.0
PRODID:-// - ECPv6.15.20//NONSGML v1.0//EN
CALSCALE:GREGORIAN
METHOD:PUBLISH
X-ORIGINAL-URL:https://sewingcafelancaster.com
X-WR-CALDESC:Events for 
REFRESH-INTERVAL;VALUE=DURATION:PT1H
X-Robots-Tag:noindex
X-PUBLISHED-TTL:PT1H
BEGIN:VTIMEZONE
TZID:UTC
BEGIN:STANDARD
TZOFFSETFROM:+0000
TZOFFSETTO:+0000
TZNAME:UTC
DTSTART:20250101T000000
END:STANDARD
END:VTIMEZONE
BEGIN:VEVENT
DTSTART;TZID=UTC:20260303T180000
DTEND;TZID=UTC:20260303T203000
DTSTAMP:20260424T221238
CREATED:20260220T124058Z
LAST-MODIFIED:20260405T141140Z
UID:3823-1772560800-1772569800@sewingcafelancaster.com
SUMMARY:Beer & Yarn
DESCRIPTION:Join us for a convivial meetup every 1st Tuesday of the month. Bring a personal project to work on and grab a drink at the bar to support the Stonewell Tap for hosting us.
URL:https://sewingcafelancaster.com/event/beer-yarn-3/
LOCATION:Stonewell Tap\, 8-10 Church St\, Lancaster\, LA1 1NP\, United Kingdom
CATEGORIES:Sew Socials
END:VEVENT
END:VCALENDAR