BEGIN:VCALENDAR
VERSION:2.0
PRODID:-// - ECPv6.15.20//NONSGML v1.0//EN
CALSCALE:GREGORIAN
METHOD:PUBLISH
X-ORIGINAL-URL:https://sewingcafelancaster.com
X-WR-CALDESC:Events for 
REFRESH-INTERVAL;VALUE=DURATION:PT1H
X-Robots-Tag:noindex
X-PUBLISHED-TTL:PT1H
BEGIN:VTIMEZONE
TZID:UTC
BEGIN:STANDARD
TZOFFSETFROM:+0000
TZOFFSETTO:+0000
TZNAME:UTC
DTSTART:20250101T000000
END:STANDARD
END:VTIMEZONE
BEGIN:VEVENT
DTSTART;TZID=UTC:20260206T170000
DTEND;TZID=UTC:20260206T200000
DTSTAMP:20260424T233341
CREATED:20260212T153237Z
LAST-MODIFIED:20260212T153237Z
UID:3501-1770397200-1770408000@sewingcafelancaster.com
SUMMARY:Leaves of Dhaka
DESCRIPTION:Find us in Gregson’s Snug \nSew hand stitched fabric leaves and contribute to the ever enlarging commemorative exhibition for the thousands who died in the 2013 Rana Plaza collapse.
URL:https://sewingcafelancaster.com/event/leaves-of-dhaka/
LOCATION:Gregson Lancaster\, 3 - 35 Moor Gate\, Lancaster\, Lancaster\, Lancashire\, LA1 3PY\, United Kingdom
CATEGORIES:Workshop
ATTACH;FMTTYPE=image/jpeg:https://sewingcafelancaster.com/wp-content/uploads/2026/02/IMG_3482-scaled.jpg
END:VEVENT
END:VCALENDAR